BEGIN:VCALENDAR
VERSION:2.0
PRODID:-//ChamberMaster//Event Calendar 2.0//EN
METHOD:PUBLISH
X-PUBLISHED-TTL:P3D
REFRESH-INTERVAL:P3D
CALSCALE:GREGORIAN
BEGIN:VEVENT
DTSTART:20260616T150000Z
DTEND:20260616T170000Z
X-MICROSOFT-CDO-ALLDAYEVENT:FALSE
SUMMARY:Toy Workshop - Buffalo Days 2026
DESCRIPTION:Free wooden toys & Painting. \n\nFree admission.\n\nChildren must be accompanied by adult.
X-ALT-DESC;FMTTYPE=text/html:<span style="font-size: 12px\;"><span style="color: black\;">Free wooden toys &amp\; Painting.&nbsp\;<br />\nFree admission.<br />\nChildren must be accompanied by adult.</span></span>
LOCATION:Sturges Park
UID:e.1628.10393
SEQUENCE:3
DTSTAMP:20260421T064007Z
URL:http://buffalodev.chambermaster.com/events/details/toy-workshop-buffalo-days-2026-10393
END:VEVENT

END:VCALENDAR
